BEGIN:VCALENDAR
VERSION:2.0
PRODID:-//Theatre Royal Castlemaine - ECPv6.15.20//NONSGML v1.0//EN
CALSCALE:GREGORIAN
METHOD:PUBLISH
X-WR-CALNAME:Theatre Royal Castlemaine
X-ORIGINAL-URL:https://theatreroyalcastlemaine.com.au
X-WR-CALDESC:Events for Theatre Royal Castlemaine
REFRESH-INTERVAL;VALUE=DURATION:PT1H
X-Robots-Tag:noindex
X-PUBLISHED-TTL:PT1H
BEGIN:VTIMEZONE
TZID:Australia/Melbourne
BEGIN:STANDARD
TZOFFSETFROM:+1100
TZOFFSETTO:+1000
TZNAME:AEST
DTSTART:20250405T160000
END:STANDARD
BEGIN:DAYLIGHT
TZOFFSETFROM:+1000
TZOFFSETTO:+1100
TZNAME:AEDT
DTSTART:20251004T160000
END:DAYLIGHT
BEGIN:STANDARD
TZOFFSETFROM:+1100
TZOFFSETTO:+1000
TZNAME:AEST
DTSTART:20260404T160000
END:STANDARD
BEGIN:DAYLIGHT
TZOFFSETFROM:+1000
TZOFFSETTO:+1100
TZNAME:AEDT
DTSTART:20261003T160000
END:DAYLIGHT
BEGIN:STANDARD
TZOFFSETFROM:+1100
TZOFFSETTO:+1000
TZNAME:AEST
DTSTART:20270403T160000
END:STANDARD
BEGIN:DAYLIGHT
TZOFFSETFROM:+1000
TZOFFSETTO:+1100
TZNAME:AEDT
DTSTART:20271002T160000
END:DAYLIGHT
END:VTIMEZONE
BEGIN:VEVENT
DTSTART;TZID=Australia/Melbourne:20260505T190000
DTEND;TZID=Australia/Melbourne:20260505T230000
DTSTAMP:20260424T101914
CREATED:20260422T074647Z
LAST-MODIFIED:20260422T224038Z
UID:10006170-1778007600-1778022000@theatreroyalcastlemaine.com.au
SUMMARY:SWEET COUNTRY (2017)
DESCRIPTION:One screening only!  \nIn anticipation of Warwick Thornton’s new film Wolfram\, which premiered at the Berlin International Film Festival earlier this year\, we are excited to present a single session of Sweet Country (2017). \nInspired by real events\, Sweet Country is a period western set in 1929 in the outback of the Northern Territory. When Aboriginal stockman Sam (Hamilton Morris) kills a white station owner in self defence\, Sam and his pregnant wife Lizzie (Natassia Gorey-Furber) go on the run. They are pursued across the outback\, through glorious but harsh desert country. Sergeant Fletcher (Bryan Brown) leads the posse with the help of a tracker and local landowners Fred Smith (Sam Neill) and Mick Kennedy (Thomas M. Wright). Eventually\,  Sam decides to give himself up and is put on trial. But will justice be served? \nWolfram is a loose sequel to Sweet Country featuring some of the same actors and characters. Our season starts on May 7.
URL:https://theatreroyalcastlemaine.com.au/whats-on/sweet-country-2017-one-screening-only/
CATEGORIES:Film
ATTACH;FMTTYPE=image/jpeg:https://theatreroyalcastlemaine.com.au/wp-content/uploads/2026/04/sweet-e1776832003682.jpg
END:VEVENT
END:VCALENDAR